BEGIN:VCALENDAR
VERSION:2.0
PRODID:-//ChamberMaster//Event Calendar 2.0//EN
METHOD:PUBLISH
X-PUBLISHED-TTL:P3D
REFRESH-INTERVAL:P3D
CALSCALE:GREGORIAN
BEGIN:VEVENT
DTSTART:20191115T170000Z
DTEND:20191115T180000Z
X-MICROSOFT-CDO-ALLDAYEVENT:FALSE
SUMMARY:FINE (Food Insecurities Network of Etowah)
DESCRIPTION:Ladies\,\n\n\n\nWe have reschedule the FINE meeting for Friday\, November 15th at 11:00am at The Chamber in the Gregerson Meeting room.\n\n\n\nWe will be working on and hopefully completing the grant application for the Case Worker for this project.\n\n\n\nI look forward to seeing everyone on the 15th
X-ALT-DESC;FMTTYPE=text/html:Ladies\,<br />\n<br />\nWe have reschedule the FINE meeting for Friday\, November 15th at 11:00am at The Chamber in the Gregerson Meeting room.<br />\n<br />\nWe will be working on and hopefully completing the grant application for the Case Worker for this project.<br />\n<br />\nI look forward to seeing everyone on the 15th
LOCATION:
UID:e.1432.401777
SEQUENCE:3
DTSTAMP:20260420T054753Z
URL:http://business.etowahchamber.org/events/details/fine-food-insecurities-network-of-etowah-401777
END:VEVENT

END:VCALENDAR
