BEGIN:VCALENDAR
VERSION:2.0
PRODID:-//ChamberMaster//Event Calendar 2.0//EN
METHOD:PUBLISH
X-PUBLISHED-TTL:P3D
REFRESH-INTERVAL:P3D
CALSCALE:GREGORIAN
BEGIN:VEVENT
DTSTART:20140809T170000Z
DTEND:20140809T210000Z
X-MICROSOFT-CDO-ALLDAYEVENT:FALSE
SUMMARY:Fire Department Event to Increase Awareness of Leaving Kids in Hot Cars
DESCRIPTION:The Rainbow City Fire Department will host an event Saturday to increase awareness and provide tips to help parents remember to check their cars' back seats before locking the doors and walking away.\n\nThe event was spurred by continued cases across the U.S. of children dying after being left in hot cars.\n\nFirefighters plan to make it fun\, but will emphasize an important message: take action to prevent leaving a child in a hot car.\n\nFrom noon to 4 p.m.\, Capt. Brad Crosby said\, firefighters will be at the Winn-Dixie parking lot\, baking cookies in the fire department pickup truck.\n\nCrosby said the fire department will give away free cookies\, as well as ideas that can help people to remember children in vehicles.\n\nThe "baking" aspect of the event is to demonstrate to people just how hot it can get in a vehicle\, he said.\n\nFirefighters have assembled tips that could help people to remember a child in their cars\, Crosby said\, such as leaving a shoe in the back seat\, or putting a purse there\, so they will have to look at the back seat before they walk away from their vehicles.\n\nThe department also has window stickers with a thermometer that shows just how hot a car gets inside. Crosby said firefighters hope to give one of those to each parent who attends.
X-ALT-DESC;FMTTYPE=text/html:<p style="margin: 0px\; padding: 0px 0px 10px\; font-size: 0.8em\; color: rgb(0\, 0\, 0)\; font-family: Helvetica\, Arial\, sans-serif\; line-height: normal\;">The Rainbow City Fire Department will host an event Saturday to increase awareness and provide tips to help parents remember to check their cars&rsquo\; back seats before locking the doors and walking away.</p>\n\n<p style="margin: 0px\; padding: 0px 0px 10px\; font-size: 0.8em\; color: rgb(0\, 0\, 0)\; font-family: Helvetica\, Arial\, sans-serif\; line-height: normal\;">The event was spurred by continued cases across the U.S. of children dying after being left in hot cars.</p>\n\n<p style="margin: 0px\; padding: 0px 0px 10px\; font-size: 0.8em\; color: rgb(0\, 0\, 0)\; font-family: Helvetica\, Arial\, sans-serif\; line-height: normal\;">Firefighters plan to make it fun\, but will emphasize an important message: take action to prevent leaving a child in a hot car.</p>\n\n<p style="margin: 0px\; padding: 0px 0px 10px\; font-size: 0.8em\; color: rgb(0\, 0\, 0)\; font-family: Helvetica\, Arial\, sans-serif\; line-height: normal\;">From noon to 4 p.m.\, Capt. Brad Crosby said\, firefighters will be at the Winn-Dixie parking lot\, baking cookies in the fire department pickup truck.</p>\n\n<p style="margin: 0px\; padding: 0px 0px 10px\; font-size: 0.8em\; color: rgb(0\, 0\, 0)\; font-family: Helvetica\, Arial\, sans-serif\; line-height: normal\;">Crosby said the fire department will give away free cookies\, as well as ideas that can help people to remember children in vehicles.</p>\n\n<p style="margin: 0px\; padding: 0px 0px 10px\; font-size: 0.8em\; color: rgb(0\, 0\, 0)\; font-family: Helvetica\, Arial\, sans-serif\; line-height: normal\;">The &ldquo\;baking&rdquo\; aspect of the event is to demonstrate to people just how hot it can get in a vehicle\, he said.</p>\n\n<p style="margin: 0px\; padding: 0px 0px 10px\; font-size: 0.8em\; color: rgb(0\, 0\, 0)\; font-family: Helvetica\, Arial\, sans-serif\; line-height: normal\;">Firefighters have assembled tips that could help people to remember a child in their cars\, Crosby said\, such as leaving a shoe in the back seat\, or putting a purse there\, so they will have to look at the back seat before they walk away from their vehicles.</p>\n\n<p style="margin: 0px\; padding: 0px 0px 10px\; font-size: 0.8em\; color: rgb(0\, 0\, 0)\; font-family: Helvetica\, Arial\, sans-serif\; line-height: normal\;">The department also has window stickers with a thermometer that shows just how hot a car gets inside. Crosby said firefighters hope to give one of those to each parent who attends.</p>\n
LOCATION:Rainbow City Winn-Dixie parking lot
UID:e.1432.384892
SEQUENCE:3
DTSTAMP:20260422T171823Z
URL:http://business.etowahchamber.org/events/details/fire-department-event-to-increase-awareness-of-leaving-kids-in-hot-cars-08-09-2014-384892
END:VEVENT

END:VCALENDAR
