BEGIN:VCALENDAR
VERSION:2.0
PRODID:-//ChamberMaster//Event Calendar 2.0//EN
METHOD:PUBLISH
X-PUBLISHED-TTL:P3D
REFRESH-INTERVAL:P3D
CALSCALE:GREGORIAN
BEGIN:VEVENT
DTSTART:20200904T220000Z
DTEND:20200905T010000Z
X-MICROSOFT-CDO-ALLDAYEVENT:FALSE
SUMMARY:First Friday in Downtown Gadsden
DESCRIPTION:It has been a very long time since we have experienced the family friendly fun of First Friday. We will close Broad Street from 1st to 7th Streets about 4:30 & have entertainment beginning at 6:00 P.M. with the Foggy Hollow Band at 5th and Broad\, the Matt Harvey Band at 4th and Broad\, and the Cross Creek Cowboy Bank at 2nd and Broad.\n\n\n\nFood vendors will be located between 4th and 5th Streets. Classic car parking will be from 1st to 4th Streets and from 5th to 7th Streets on Broad.\n\n\n\nMost of our shops will be open so come down and support our downtown merchants and our restaurants.\n\nWe have missed you and hope to see you there! Be sure and wear your mask and social distance from those not in your household! Let's all be safe!
X-ALT-DESC;FMTTYPE=text/html:<span style="font-size:16px\;"><span style="font-family:arial\;">It has been a very long time since we have experienced the family friendly fun of First Friday. We will close Broad Street from 1st to 7th Streets about 4:30 &amp\; have entertainment beginning at 6:00 P.M. with the Foggy Hollow Band at 5th and Broad\, the Matt Harvey Band at 4th and Broad\, and the Cross Creek Cowboy Bank at 2nd and Broad.<br />\n<br />\nFood vendors will be located between 4th and 5th Streets. Classic car parking will be from 1st to 4th Streets and from 5th to 7th Streets on Broad.<br />\n<br />\nMost of our shops will be open so come down and support our downtown merchants and our restaurants.<br />\n<strong>We have missed you and hope to see you there! Be sure and wear your mask and social distance from those not in your household! Let&#39\;s all be safe!</strong></span></span><br />\n&nbsp\;
LOCATION:Downtown Gadsden
UID:e.1432.402750
SEQUENCE:3
DTSTAMP:20260419T153851Z
URL:http://business.etowahchamber.org/events/details/first-friday-in-downtown-gadsden-09-04-2020-402750
END:VEVENT

END:VCALENDAR
