BEGIN:VCALENDAR
VERSION:2.0
PRODID:-//ChamberMaster//Event Calendar 2.0//EN
METHOD:PUBLISH
X-PUBLISHED-TTL:P3D
REFRESH-INTERVAL:P3D
CALSCALE:GREGORIAN
BEGIN:VEVENT
DTSTART:20131005T180000Z
DTEND:20131005T230000Z
X-MICROSOFT-CDO-ALLDAYEVENT:FALSE
SUMMARY:First Saturday\, Carver Center
DESCRIPTION:The Carver Community Revitalization Committee's First Saturday is a fall festival this month.\n\n\n	\n		Activities are from 1 p.m. to 6 p.m. Saturday at Carver Square on Tuscaloosa Avenue.\n	\n		\n\n		live music including hip hop\, karaoke and gospel as well as other performers\n\n		carpet golf\n	\n		hay rides on the grounds\n\n		line dancing\n\n		tennis lessons\n\n		food vendors\n\n		arts and crafts vendors\n\n		Imagination Place will provide its Big Bubbles machine\n\n		New cars will be on display
X-ALT-DESC;FMTTYPE=text/html:<div class="article_text article_paragraph0" style="margin: 0px\; padding: 0px\; border: 0px\; font-family: Arimo\, Arial\, sans-serif\; font-size: medium\; line-height: 1.4\; vertical-align: baseline\; color: rgb(0\, 0\, 0)\;">\n	<p style="margin: 0px 0px 1em\; padding: 0px\; border: 0px\; font-size: inherit\; font-style: inherit\; font-variant: inherit\; line-height: 1.4\; vertical-align: baseline\;">\n		The Carver Community Revitalization Committee&rsquo\;s First Saturday is a fall festival this month.</p>\n</div>\n<div class="article_text article_paragraph1" style="margin: 0px 0px 20px\; padding: 0px\; border: 0px\; font-family: Arimo\, Arial\, sans-serif\; font-size: medium\; line-height: 1.4\; vertical-align: baseline\; color: rgb(0\, 0\, 0)\;">\n	<p style="margin: 0px 0px 1em\; padding: 0px\; border: 0px\; font-size: inherit\; font-style: inherit\; font-variant: inherit\; line-height: 1.4\; vertical-align: baseline\;">\n		Activities are from 1 p.m. to 6 p.m. Saturday at Carver Square on Tuscaloosa Avenue.</p>\n	<p style="margin: 0px 0px 1em\; padding: 0px\; border: 0px\; font-size: inherit\; font-style: inherit\; font-variant: inherit\; line-height: 1.4\; vertical-align: baseline\;">\n		<br />\n		live music including hip hop\, karaoke and gospel as well as other performers<br />\n		<span style="font-size: inherit\; font-style: inherit\; font-variant: inherit\; line-height: 1.4\;">carpet golf</span></p>\n	<p style="margin: 0px 0px 1em\; padding: 0px\; border: 0px\; font-size: inherit\; font-style: inherit\; font-variant: inherit\; line-height: 1.4\; vertical-align: baseline\;">\n		hay rides on the grounds<br />\n		line dancing<br />\n		tennis lessons<br />\n		<span style="font-size: inherit\; font-style: inherit\; font-variant: inherit\; line-height: 1.4\;">food vendors<br />\n		arts and crafts vendors</span><br />\n		<span style="font-size: inherit\; font-style: inherit\; font-variant: inherit\; line-height: 1.4\;">Imagination Place will provide its Big Bubbles machine</span><br />\n		<span style="font-size: inherit\; font-style: inherit\; font-variant: inherit\; line-height: 1.4\;">New cars will be on display</span></p>\n	<p style="margin: 0px 0px 1em\; padding: 0px\; border: 0px\; font-size: inherit\; font-style: inherit\; font-variant: inherit\; line-height: 1.4\; vertical-align: baseline\;">\n		&nbsp\;</p>\n</div>\n<br />\n
LOCATION:Carver Square on Tuscaloosa Avenue.
UID:e.1432.384127
SEQUENCE:3
DTSTAMP:20260423T052127Z
URL:http://business.etowahchamber.org/events/details/first-saturday-carver-center-10-05-2013-384127
END:VEVENT

END:VCALENDAR
