BEGIN:VCALENDAR
VERSION:2.0
PRODID:-//ChamberMaster//Event Calendar 2.0//EN
METHOD:PUBLISH
X-PUBLISHED-TTL:P3D
REFRESH-INTERVAL:P3D
CALSCALE:GREGORIAN
BEGIN:VEVENT
DTSTART:20130504T230000Z
DTEND:20130505T020000Z
X-MICROSOFT-CDO-ALLDAYEVENT:FALSE
SUMMARY:First Saturday Historic Downtown Attalla
DESCRIPTION:First Saturday in Historic Downtown Attalla\, Saturday May 4th\, 6pm-9pm\, Entertainment by The Boys of Alabama and Teddie Cox!  Children's Free Train Rides and Activities\, Car Show 1983 & Prior - $500 Money Tree...SHOP LOCAL MERCHANTS!!!
X-ALT-DESC;FMTTYPE=text/html:First Saturday in Historic Downtown Attalla\, Saturday May 4th\, 6pm-9pm\, Entertainment by The Boys of Alabama and Teddie Cox! &nbsp\;Children&#39\;s Free Train Rides and Activities\, Car Show 1983 &amp\; Prior - $500 Money Tree...SHOP LOCAL MERCHANTS!!!
LOCATION:Downtown Attalla
UID:e.1432.383228
SEQUENCE:3
DTSTAMP:20260423T094202Z
URL:http://business.etowahchamber.org/events/details/first-saturday-historic-downtown-attalla-05-04-2013-383228
END:VEVENT

END:VCALENDAR
