BEGIN:VCALENDAR
VERSION:2.0
PRODID:-//ChamberMaster//Event Calendar 2.0//EN
METHOD:PUBLISH
X-PUBLISHED-TTL:P3D
REFRESH-INTERVAL:P3D
CALSCALE:GREGORIAN
BEGIN:VEVENT
DTSTART;VALUE=DATE:20120804
DTEND;VALUE=DATE:20120805
TRANSP:TRANSPARENT
X-MICROSOFT-CDO-ALLDAYEVENT:TRUE
SUMMARY:First Saturday in Attalla
DESCRIPTION:Celebrate First Saturday in the unique\n\nAntique Row on Main Street in Attalla\n\nFeaturing one-of-a-kind treasures\, street vendors\, music\, vintage cars and more!\n\nFor more information contact Lisa Turner at lturner@attallacity.com.
X-ALT-DESC;FMTTYPE=text/html:Celebrate First Saturday in the unique<br />\nAntique Row on Main Street in Attalla<br />\nFeaturing one-of-a-kind treasures\, street vendors\, music\, vintage cars and more!<br />\nFor more information contact Lisa Turner at lturner@attallacity.com.
LOCATION:Antique Row on Main Street in Attalla
UID:e.1432.381556
SEQUENCE:3
DTSTAMP:20260422T214845Z
URL:http://business.etowahchamber.org/events/details/first-saturday-in-attalla-08-04-2012-381556
END:VEVENT

END:VCALENDAR
