BEGIN:VCALENDAR
VERSION:2.0
PRODID:-//ChamberMaster//Event Calendar 2.0//EN
METHOD:PUBLISH
X-PUBLISHED-TTL:P3D
REFRESH-INTERVAL:P3D
CALSCALE:GREGORIAN
BEGIN:VEVENT
DTSTART:20121013T150000Z
DTEND:20121013T220000Z
X-MICROSOFT-CDO-ALLDAYEVENT:FALSE
SUMMARY:FLD Garden Shop Fall Festival
DESCRIPTION:FLD Garden Shop will be hosting a Fall Festival on Saturday\, Oct .13 from 10AM to 5PM. Bring the kids to play in the bounce house\, paint a pumpkin\, and enjoy some snacks like cotton candy and lemonade.\n\n\n\nMeanwhile\, parents can take advantage of some festival-only deals on mums\, pumpkins\, and other fall items.\n\n\n\nHope to see you there!
X-ALT-DESC;FMTTYPE=text/html:FLD Garden Shop will be hosting a Fall Festival on Saturday\, Oct .13 from 10AM to 5PM. Bring the kids to play in the bounce house\, paint a pumpkin\, and enjoy some snacks like cotton candy and lemonade.<br />\n<br />\nMeanwhile\, parents can take advantage of some festival-only deals on mums\, pumpkins\, and other fall items.<br />\n<br />\nHope to see you there!
LOCATION:2290 Cedar Bend Rd N\, Southside AL 35907
UID:e.1432.382791
SEQUENCE:3
DTSTAMP:20260423T004245Z
URL:http://business.etowahchamber.org/events/details/fld-garden-shop-fall-festival-10-13-2012-382791
END:VEVENT

END:VCALENDAR
