BEGIN:VCALENDAR
VERSION:2.0
PRODID:-//ChamberMaster//Event Calendar 2.0//EN
METHOD:PUBLISH
X-PUBLISHED-TTL:P3D
REFRESH-INTERVAL:P3D
CALSCALE:GREGORIAN
BEGIN:VEVENT
DTSTART;VALUE=DATE:20230210
DTEND;VALUE=DATE:20230415
TRANSP:TRANSPARENT
X-MICROSOFT-CDO-ALLDAYEVENT:TRUE
SUMMARY:Free Local Tax Preparation
DESCRIPTION:Free tax preparation available in Attalla\, Centre\, East Gadsden\, Gadsden\, Fort Payne\, Glencoe\, Hokes Bluff\, Rainbow City\, Walnut Grove\, and Sardis City through April.\n\n\n\nPlease bring your photo ID\, social security cards\, last year's tax return and all W-2s & 1099s. This program brought to you by RSVP of Etowah County\, Etowah County Commission and sponsored by IRS. Call 256-549-8147.\n\n\n\nATTALLA\n\nCarnes Recreation Center\n\n102 Case Avenue\n\nTuesdays & Thursdays 10:00   2:00\n\nJanuary 31st   April 13th\n\n\n\nCENTRE\n\nCentre Administration Building\n\n260 Cedar Bluff Road\n\nTuesday's 10:00 - 2:00\n\nFebruary 7th - April 11th\n\n\n\nEAST GADSDEN\n\nFamily Success Center\n\n821 E Broad Street\n\nEvery other Saturday 9:00   1:00\n\n1/28\, 2/11 & 25\, 3/11 & 25\, 4/8\n\n\n\nGADSDEN\n\nEtowah County Courthouse\n\n2nd Floor\n\nMonday   Friday 11:00   3:00\n\nJanuary 30th - April 14th\n\n\n\nFORT PAYNE\n\nCOUNCIL ON AGING\n\n600 Tyler Ave SE\n\nFeb 16 & 23rd\n\nMarch 16\, 23\, 30th\n\n\n\nGLENCOE\n\nGeorge Wallace Senior Center\n\n407 Hollingsworth Park Ln.\n\nTuesdays & Fridays 10:00 2:00\n\nJanuary 24th - April 14th\n\n\n\nHOKES BLUFF\n\nHokes Bluff Library\n\n3310 Alford Bend Road\n\nMonday's 10:00   2:00\n\nJanuary 30th - April 10th\n\n\n\nRAINBOW CITY\n\nRainbow City Community Center\n\n3702 Rainbow Drive\n\nWednesday's 11:30-3:30\n\nJanuary 25th - April 12th\n\n\n\nWALNUT GROVE\n\nWalnut Grove Library\n\n5151 Walnut Grove Road\n\nEvery Other Wednesday 10:00   2:00\n\nFebruary 1st & 15th\n\nMarch 1st\, 15th & 29th\n\n\n\nSARDIS CITY\n\nSardis Library\n\n1310 Church Street\n\nEvery Other Wednesday 10:00-2:00\n\nFebruary 22nd\n\nMarch 8th & 22nd\n\nApril 5th
X-ALT-DESC;FMTTYPE=text/html:Free tax preparation available in Attalla\, Centre\, East Gadsden\, Gadsden\, Fort Payne\, Glencoe\, Hokes Bluff\, Rainbow City\, Walnut Grove\, and Sardis City through April.<br />\n<br />\nPlease bring your photo ID\, social security cards\, last year&#39\;s tax return and all W-2s &amp\; 1099s. This program brought to you by RSVP of Etowah County\, Etowah County Commission and sponsored by IRS. Call 256-549-8147.<br />\n<br />\nATTALLA<br />\nCarnes Recreation Center<br />\n102 Case Avenue<br />\nTuesdays &amp\; Thursdays 10:00 &ndash\; 2:00<br />\nJanuary 31st &ndash\; April 13th<br />\n<br />\nCENTRE<br />\nCentre Administration Building<br />\n260 Cedar Bluff Road<br />\nTuesday&rsquo\;s 10:00 - 2:00<br />\nFebruary 7th - April 11th<br />\n<br />\nEAST GADSDEN<br />\nFamily Success Center<br />\n821 E Broad Street<br />\nEvery other Saturday 9:00 &ndash\; 1:00<br />\n1/28\, 2/11 &amp\; 25\, 3/11 &amp\; 25\, 4/8<br />\n<br />\nGADSDEN<br />\nEtowah County Courthouse<br />\n2nd Floor<br />\nMonday &ndash\; Friday 11:00 &ndash\; 3:00<br />\nJanuary 30th - April 14th<br />\n<br />\nFORT PAYNE<br />\nCOUNCIL ON AGING<br />\n600 Tyler Ave SE<br />\nFeb 16 &amp\; 23rd<br />\nMarch 16\, 23\, 30th<br />\n<br />\nGLENCOE<br />\nGeorge Wallace Senior Center<br />\n407 Hollingsworth Park Ln.<br />\nTuesdays &amp\; Fridays 10:00&ndash\;2:00<br />\nJanuary 24th - April 14th<br />\n<br />\nHOKES BLUFF<br />\nHokes Bluff Library<br />\n3310 Alford Bend Road<br />\nMonday&rsquo\;s 10:00 &ndash\; 2:00<br />\nJanuary 30th - April 10th<br />\n<br />\nRAINBOW CITY<br />\nRainbow City Community Center<br />\n3702 Rainbow Drive<br />\nWednesday&rsquo\;s 11:30-3:30<br />\nJanuary 25th - April 12th<br />\n<br />\nWALNUT GROVE<br />\nWalnut Grove Library<br />\n5151 Walnut Grove Road<br />\nEvery Other Wednesday 10:00 &ndash\; 2:00<br />\nFebruary 1st &amp\; 15th<br />\nMarch 1st\, 15th &amp\; 29th<br />\n<br />\nSARDIS CITY<br />\nSardis Library<br />\n1310 Church Street<br />\nEvery Other Wednesday 10:00-2:00<br />\nFebruary 22nd<br />\nMarch 8th &amp\; 22nd<br />\nApril 5th<br />\n&nbsp\;
LOCATION:See details for each area in description.
UID:e.1432.406153
SEQUENCE:3
DTSTAMP:20260421T081909Z
URL:http://business.etowahchamber.org/events/details/free-local-tax-preparation-406153
END:VEVENT

END:VCALENDAR
