BEGIN:VCALENDAR
VERSION:2.0
PRODID:-//ChamberMaster//Event Calendar 2.0//EN
METHOD:PUBLISH
X-PUBLISHED-TTL:P3D
REFRESH-INTERVAL:P3D
CALSCALE:GREGORIAN
BEGIN:VEVENT
DTSTART:20130812T223000Z
DTEND:20130813T000000Z
X-MICROSOFT-CDO-ALLDAYEVENT:FALSE
SUMMARY:Free Tax Workshop Offered to Gadsden Area Businesses
DESCRIPTION:Free Tax Workshop Offered to Gadsden Area New Business Owners Sept. 17\n\n	Gadsden Starting a new business and have tax questions?  Mark your calendar and attend the Alabama Department of Revenue's free New Business Workshop scheduled Tuesday\, Sept. 17\, 2013\, at 3 p.m. and again at 5:30 p.m. in Gadsden.\n\n	The workshop will be held at the Elliot Community Center\, located at 2827 W. Meighan Blvd. in Gadsden.         \n\n	The free workshop will cover a variety of state tax information topics\, including employer withholding taxes\, state and local sales taxes\, property taxes\, business licensing requirements\, and Alabama's child labor law.  An overview of Alabama's business tax electronic filing programs will also be presented.\n\n	ADOR presenters will also provide workshop participants with information about Alabama's new ONE SPOT\, a free Internet filing and payment portal that will allow taxpayers to file and pay state\, county\, and city sales\, use\, and rental taxes all in one place\, beginning Oct. 1\, 2013.  \n\n	For more information concerning the Gadsden area New Business Workshop\, visit the department's Web site at www.revenue.alabama.gov or call (256) 547-0554.\n\n	Click here to edit...
X-ALT-DESC;FMTTYPE=text/html:<div style="color: gray\;">\n	<span style="font-size: 18pt\;"><span style="font-family: arial\,sans-serif\;">Free Tax Workshop Offered to Gadsden Area New Business Owners Sept. 17</span></span><br />\n	<span style="font-family: arial\,sans-serif\;"><span style="font-size: medium\;">Gadsden&mdash\;Starting a new business and have tax questions?&nbsp\; Mark your calendar and attend the Alabama Department of Revenue&rsquo\;s free New Business Workshop scheduled Tuesday\, Sept. 17\, 2013\, at 3 p.m. and again at 5:30 p.m. in Gadsden.</span></span><br />\n	<span style="font-family: arial\,sans-serif\;"><span style="font-size: medium\;">The workshop will be held at the Elliot Community Center\, located at 2827 W. Meighan Blvd. in Gadsden.&nbsp\;&nbsp\;&nbsp\;&nbsp\;&nbsp\;&nbsp\;&nbsp\;&nbsp\; </span></span><br />\n	<span style="font-family: arial\,sans-serif\;"><span style="font-size: medium\;">The free workshop will cover a variety of state tax information topics\, including employer withholding taxes\, state and local sales taxes\, property taxes\, business licensing requirements\, and Alabama&rsquo\;s child labor law.&nbsp\; An overview of Alabama&rsquo\;s business tax electronic filing programs will also be presented.</span></span><br />\n	<span style="font-family: arial\,sans-serif\;"><span style="font-size: medium\;">ADOR presenters will also provide workshop participants with information about Alabama&rsquo\;s new ONE SPOT\, a free Internet filing and payment portal that will allow taxpayers to file and pay state\, county\, and city sales\, use\, and rental taxes all in one place\, beginning Oct. 1\, 2013.&nbsp\; </span></span><br />\n	<span style="font-family: arial\,sans-serif\;"><span style="font-size: medium\;">For more information concerning the Gadsden area New Business Workshop\, visit the department&rsquo\;s Web site at </span></span><a href="http://www.revenue.alabama.gov/"><span style="font-size: medium\;"><span style="color: rgb(0\, 0\, 255)\;">www.revenue.alabama.gov</span></span></a><span style="font-size: medium\;"> or call (256) 547-0554.</span><br />\n	Click here to edit...</div>\n
LOCATION:Elliot Community Center 2827 W. Meighan Blvd in Gadsden
UID:e.1432.384083
SEQUENCE:3
DTSTAMP:20260423T075603Z
URL:http://business.etowahchamber.org/events/details/free-tax-workshop-offered-to-gadsden-area-businesses-08-12-2013-384083
END:VEVENT

END:VCALENDAR
