BEGIN:VCALENDAR
VERSION:2.0
PRODID:-//ChamberMaster//Event Calendar 2.0//EN
METHOD:PUBLISH
X-PUBLISHED-TTL:P3D
REFRESH-INTERVAL:P3D
CALSCALE:GREGORIAN
BEGIN:VEVENT
DTSTART:20140520T200000Z
DTEND:20140521T003000Z
X-MICROSOFT-CDO-ALLDAYEVENT:FALSE
SUMMARY:Free Tax Workshop Offered to Gadsden Area New Business Owners
DESCRIPTION:Free Tax Workshop Offered to Gadsden Area New Business Owners May 20th\n\nGadsden Starting a new business and have tax questions?  Mark your calendar and attend the Alabama Department of Revenue's free New Business Workshop scheduled Tuesday\, May 20\, 2014\, at 3 p.m. and again at 6:00 p.m. in Gadsden.\n\nThe workshop will be held at the Chamber of Commerce\, located at One Commerce Square. in Gadsden.         \n\nThe free workshop will cover a variety of state tax information topics\, including employer withholding taxes\, state and local sales taxes\, property taxes\, and business licensing requirements.  An overview of Alabama's business tax electronic filing programs will also be presented.\n\nADOR presenters will also provide workshop participants with information about Alabama's ONE SPOT\, a free Internet filing and payment portal that will allow taxpayers to file and pay state\, county\, and city sales\, use\, and rental taxes all in one place.\n\n\n\nFor more information concerning the Gadsden area New Business Workshop\, visit the department's Web site at www.revenue.alabama.gov or call (256) 547-0554.\n\nClick here to edit...
X-ALT-DESC;FMTTYPE=text/html:<div style="color: gray\;"><span style="font-size: 18pt\;"><span style="font-family: arial\,sans-serif\;">Free Tax Workshop Offered to Gadsden Area New Business Owners May 20th</span></span><br />\n<span style="font-family: arial\,sans-serif\;"><span style="font-size: medium\;">Gadsden&mdash\;Starting a new business and have tax questions?&nbsp\; Mark your calendar and attend the Alabama Department of Revenue&rsquo\;s free New Business Workshop scheduled Tuesday\, May 20\, 2014\, at 3 p.m. and again at 6:00 p.m. in Gadsden.</span></span><br />\n<span style="font-family: arial\,sans-serif\;"><span style="font-size: medium\;">The workshop will be held at the Chamber of Commerce\, located at One Commerce Square. in Gadsden.&nbsp\;&nbsp\;&nbsp\;&nbsp\;&nbsp\;&nbsp\;&nbsp\;&nbsp\; </span></span><br />\n<span style="font-family: arial\,sans-serif\;"><span style="font-size: medium\;">The free workshop will cover a variety of state tax information topics\, including employer withholding taxes\, state and local sales taxes\, property taxes\, and business licensing requirements.&nbsp\; An overview of Alabama&rsquo\;s business tax electronic filing programs will also be presented.</span></span><br />\n<span style="font-family: arial\,sans-serif\;"><span style="font-size: medium\;">ADOR presenters will also provide workshop participants with information about Alabama&rsquo\;s ONE SPOT\, a free Internet filing and payment portal that will allow taxpayers to file and pay state\, county\, and city sales\, use\, and rental taxes all in one place.</span></span><br />\n<br />\n<span style="font-family: arial\,sans-serif\;"><span style="font-size: medium\;">For more information concerning the Gadsden area New Business Workshop\, visit the department&rsquo\;s Web site at </span></span><a href="http://www.revenue.alabama.gov/"><span style="font-size: medium\;"><span style="color: rgb(0\, 0\, 255)\;">www.revenue.alabama.gov</span></span></a><span style="font-size: medium\;"> or call (256) 547-0554.</span><br />\nClick here to edit...</div>\n
LOCATION:The Chamber\, Gadsden & Etowah County One Commerce Square\, Gadsden
UID:e.1432.384379
SEQUENCE:3
DTSTAMP:20260422T195412Z
URL:http://business.etowahchamber.org/events/details/free-tax-workshop-offered-to-gadsden-area-new-business-owners-05-20-2014-384379
END:VEVENT

END:VCALENDAR
