BEGIN:VCALENDAR
VERSION:2.0
PRODID:-//ChamberMaster//Event Calendar 2.0//EN
METHOD:PUBLISH
X-PUBLISHED-TTL:P3D
REFRESH-INTERVAL:P3D
CALSCALE:GREGORIAN
BEGIN:VEVENT
DTSTART:20140819T200000Z
DTEND:20140820T003000Z
X-MICROSOFT-CDO-ALLDAYEVENT:FALSE
SUMMARY:Free Tax Workshop Offered to Gadsden Area New Business Owners
DESCRIPTION:Gadsden\, July 22\, 2014 Starting a new business and have tax questions?  Mark your calendar and attend the Alabama Department of Revenue's free New Business Workshop scheduled Tuesday\, Aug. 19\, 2014\, at 3 p.m. or 5:30 p.m.\, in Gadsden.\n\nThe workshop will be held at the Gadsden/Etowah County Chamber of Commerce\, 1 Commerce Square\, in Gadsden.     \n\nThe free workshop will cover a variety of state tax information topics\, including employer withholding taxes\, state and local sales taxes\, property taxes\, and business licensing requirements.  An overview of Alabama's business tax electronic filing programs will also be presented.\n\nADOR presenters will also provide workshop participants with information about Alabama's new ONE SPOT\, a free Internet filing and payment portal that allows business taxpayers to file and pay state\, county\, and city sales\, use\, and rental taxes now all in one place.   \n\nFor more information concerning the Gadsden New Business Workshop\, visit the department's Website at www.revenue.alabama.gov or call (256) 547-0554\, ext. 221.\n\n_____________________________________________________________\n\nMedia contact for more information:  ADOR Media Affairs Office:  \n\nCarolyn G. Blackstock:  (334) 242-1390\; FAX:  (334) 242-0550\n\nWebsite address:  www.revenue.alabama.gov
X-ALT-DESC;FMTTYPE=text/html:<em><span style="font-family:arial\,sans-serif\;">Gadsden\, July 22\, 2014</span></em><span style="font-family:arial\,sans-serif\;">&mdash\;Starting a new business and have tax questions?&nbsp\; Mark your calendar and attend the Alabama Department of Revenue&rsquo\;s free New Business Workshop scheduled Tuesday\, Aug. 19\, 2014\, at 3 p.m. or 5:30 p.m.\, in Gadsden.</span><br />\n<span style="font-family:arial\,sans-serif\;">The workshop will be held at the Gadsden/Etowah County Chamber of Commerce\, 1 Commerce Square\, in Gadsden.&nbsp\;&nbsp\;&nbsp\;&nbsp\; </span><br />\n<span style="font-family:arial\,sans-serif\;">The free workshop will cover a variety of state tax information topics\, including employer withholding taxes\, state and local sales taxes\, property taxes\, and business licensing requirements.&nbsp\; An overview of Alabama&rsquo\;s business tax electronic filing programs will also be presented.</span><br />\n<span style="font-family:arial\,sans-serif\;">ADOR presenters will also provide workshop participants with information about Alabama&rsquo\;s new ONE SPOT\, a free Internet filing and payment portal that allows business taxpayers to file and pay state\, county\, and city sales\, use\, and rental taxes now all in one place.&nbsp\;&nbsp\; </span><br />\n<span style="font-family:arial\,sans-serif\;">For more information concerning the Gadsden New Business Workshop\, visit the department&rsquo\;s Website at </span><a href="http://www.revenue.alabama.gov/"><span style="font-family:arial\,sans-serif\;">www.revenue.alabama.gov</span></a><span style="font-family:arial\,sans-serif\;"> or call (256) 547-0554\, ext. 221.</span><br />\n<u><span style="font-family:arial\,sans-serif\;">_____________________________________________________________</span></u><br />\n<strong><span style="color:black\;"><span style="font-family:arial bold\;">Media contact for more information:</span></span></strong><span style="font-family:arial\,sans-serif\;">&nbsp\; ADOR Media Affairs Office:&nbsp\; </span><br />\n<span style="font-family:arial\,sans-serif\;">Carolyn G. Blackstock:&nbsp\; (334) 242-1390\; FAX:&nbsp\; (334) 242-0550</span><br />\n<span style="font-family:arial\,sans-serif\;">Website address:&nbsp\; </span><a href="http://www.revenue.alabama.gov/"><span style="font-family:arial\,sans-serif\;">www.revenue.alabama.gov</span></a>
LOCATION:The Chamber\, Gadsden & Etowah County One Commerce Square\, Gadsden\, AL
UID:e.1432.384380
SEQUENCE:3
DTSTAMP:20260422T161158Z
URL:http://business.etowahchamber.org/events/details/free-tax-workshop-offered-to-gadsden-area-new-business-owners-08-19-2014-384380
END:VEVENT

END:VCALENDAR
