BEGIN:VCALENDAR
VERSION:2.0
PRODID:-//ChamberMaster//Event Calendar 2.0//EN
METHOD:PUBLISH
X-PUBLISHED-TTL:P3D
REFRESH-INTERVAL:P3D
CALSCALE:GREGORIAN
BEGIN:VEVENT
DTSTART:20121007T170000Z
DTEND:20121007T170000Z
X-MICROSOFT-CDO-ALLDAYEVENT:FALSE
SUMMARY:Friends and Family at Big Lots
DESCRIPTION:See Store for Details
X-ALT-DESC;FMTTYPE=text/html:See Store for Details
LOCATION:Big Lots
UID:e.1432.382779
SEQUENCE:3
DTSTAMP:20260423T004141Z
URL:http://business.etowahchamber.org/events/details/friends-and-family-at-big-lots-10-07-2012-382779
END:VEVENT

END:VCALENDAR
