BEGIN:VCALENDAR
VERSION:2.0
PRODID:-//ChamberMaster//Event Calendar 2.0//EN
METHOD:PUBLISH
X-PUBLISHED-TTL:P3D
REFRESH-INTERVAL:P3D
CALSCALE:GREGORIAN
BEGIN:VEVENT
DTSTART:20201031T170000Z
DTEND:20201101T043000Z
X-MICROSOFT-CDO-ALLDAYEVENT:FALSE
SUMMARY:"Fright Night" Block Party with Lagatha's House of Axe
DESCRIPTION:Join Lagatha's House of Axe and The Gridiron for THE block party of Halloween! 4 bands\, DJ\, costume contests and MORE! Plus axe throwing for only $10/person!\n\n\n\nLive Music By:\n\n\n	Shields Rhode\n	Nexus\n	Clay Page\n	Them Dirty Roses\n\n\nTickets are $10 in advance or $20 at the door. Get your tickets today at Lagatha's (221 S. 3rd Street) or Gridiron (201 S. 3rd Street)\n\nJoin Us.....If you dare.....
X-ALT-DESC;FMTTYPE=text/html:<div style="overflow-wrap:break-word\;font-family:Segoe UI Historic\, Segoe UI\, Helvetica\, Arial\, sans-serif\;color:rgb(228\, 230\, 235)\;font-size:15px\;"><span style="color:#000000\;"><span style="font-size:16px\;"><span style="font-family:arial\;">Join Lagatha&#39\;s House of Axe and The Gridiron for THE block party of Halloween! 4 bands\, DJ\, costume contests and MORE! Plus axe throwing for only $10/person!<br />\n<br />\n<strong>Live Music By:</strong></span></span></span></div>\n\n<ul>\n	<li style="overflow-wrap: break-word\; font-family: &quot\;Segoe UI Historic&quot\;\, &quot\;Segoe UI&quot\;\, Helvetica\, Arial\, sans-serif\; color: rgb(228\, 230\, 235)\; font-size: 15px\;"><span style="color:#000000\;">Shields Rhode</span></li>\n	<li style="overflow-wrap: break-word\; font-family: &quot\;Segoe UI Historic&quot\;\, &quot\;Segoe UI&quot\;\, Helvetica\, Arial\, sans-serif\; color: rgb(228\, 230\, 235)\; font-size: 15px\;"><span style="color:#000000\;"><span style="font-size:16px\;"><span style="font-family:arial\;">Nexus</span></span></span></li>\n	<li style="overflow-wrap: break-word\; font-family: &quot\;Segoe UI Historic&quot\;\, &quot\;Segoe UI&quot\;\, Helvetica\, Arial\, sans-serif\; color: rgb(228\, 230\, 235)\; font-size: 15px\;"><span style="color:#000000\;"><span style="font-size:16px\;"><span style="font-family:arial\;"><span style="font-size:16px\;"><span style="font-family:arial\;">Clay Page</span></span></span></span></span></li>\n	<li style="overflow-wrap: break-word\; font-family: &quot\;Segoe UI Historic&quot\;\, &quot\;Segoe UI&quot\;\, Helvetica\, Arial\, sans-serif\; color: rgb(228\, 230\, 235)\; font-size: 15px\;"><span style="color:#000000\;"><span style="font-size:16px\;"><span style="font-family:arial\;"><span style="font-size:16px\;"><span style="font-family:arial\;"><span style="font-size:16px\;"><span style="font-family:arial\;">Them Dirty Roses</span></span></span></span></span></span></span></li>\n</ul>\n\n<div style="overflow-wrap:break-word\;font-family:Segoe UI Historic\, Segoe UI\, Helvetica\, Arial\, sans-serif\;color:rgb(228\, 230\, 235)\;font-size:15px\;"><span style="color:#000000\;"><span style="font-size:16px\;"><span style="font-family:arial\;">Tickets are $10 in advance or $20 at the door. Get your tickets today at Lagatha&#39\;s (221 S. 3rd Street) or Gridiron (201 S. 3rd Street)<br />\nJoin Us.....If you dare.....</span></span></span></div>\n
LOCATION:3rd Street between Walnut & Chestnut Street Gadsden\, AL
UID:e.1432.403493
SEQUENCE:3
DTSTAMP:20260421T082029Z
URL:http://business.etowahchamber.org/events/details/fright-night-block-party-with-lagatha-s-house-of-axe-403493
END:VEVENT

END:VCALENDAR
