BEGIN:VCALENDAR
VERSION:2.0
PRODID:-//ChamberMaster//Event Calendar 2.0//EN
METHOD:PUBLISH
X-PUBLISHED-TTL:P3D
REFRESH-INTERVAL:P3D
CALSCALE:GREGORIAN
BEGIN:VEVENT
DTSTART:20121006T210000Z
DTEND:20121006T230000Z
X-MICROSOFT-CDO-ALLDAYEVENT:FALSE
SUMMARY:Gadsden Cumberland Presbyterian Church 100 Year Celebration
DESCRIPTION:On Saturday\, October 6\, 2012\, the Reniaissance Choir from Bethel University\, McKenzie\, Tennessee will begin the Celebration with a concert at 4pm.  A fellowship meal and time of sharing memories will follow.  On Sunday\, October 7th\, the Reverend Norlan Scrudder\, a former pastor\, will bring the message during the worship service beginning at 10:30am.  A fellowship lunch and time of sharing will follow.  Please come and celebrate God's Faithfulness through the years at Gadsden Cumberland Presbyterian Church.  Everyone is Welcome!
X-ALT-DESC;FMTTYPE=text/html:On Saturday\, October 6\, 2012\, the Reniaissance Choir from Bethel University\, McKenzie\, Tennessee will begin the Celebration with a concert at 4pm. &nbsp\;A fellowship meal and time of sharing memories will follow. &nbsp\;On Sunday\, October 7th\, the Reverend Norlan Scrudder\, a former pastor\, will bring the message during the worship service beginning at 10:30am. &nbsp\;A fellowship lunch and time of sharing will follow. &nbsp\;Please come and celebrate God&#39\;s Faithfulness through the years at Gadsden Cumberland Presbyterian Church. &nbsp\;Everyone is Welcome!
LOCATION:1200 Piedmont Cutoff
UID:e.1432.382758
SEQUENCE:3
DTSTAMP:20260423T004120Z
URL:http://business.etowahchamber.org/events/details/gadsden-cumberland-presbyterian-church-100-year-celebration-10-06-2012-382758
END:VEVENT

END:VCALENDAR
