BEGIN:VCALENDAR
VERSION:2.0
PRODID:-//ChamberMaster//Event Calendar 2.0//EN
METHOD:PUBLISH
X-PUBLISHED-TTL:P3D
REFRESH-INTERVAL:P3D
CALSCALE:GREGORIAN
BEGIN:VEVENT
DTSTART:20140509T210000Z
DTEND:20140509T230000Z
X-MICROSOFT-CDO-ALLDAYEVENT:FALSE
SUMMARY:Gadsden-Etowah Habitat for Humanity Double Groundbreaking Ceremony
DESCRIPTION:Please join us!\n\nGadsden-Etowah Habitat for Humanity\n\nDouble Groundbreaking Ceremony\n\n~ House #45 & #46 ~\n\nFuture homes of the McArthur Family and the Pierre Family\, Sponsored by Habitat for Humanity.
X-ALT-DESC;FMTTYPE=text/html:Please join us!<br />\nGadsden-Etowah Habitat for Humanity<br />\nDouble Groundbreaking Ceremony<br />\n~ House #45 &amp\; #46 ~<br />\nFuture homes of the McArthur Family and the Pierre Family\, Sponsored by Habitat for Humanity.
LOCATION:300 & 302 Summmit Ave.\, Gadsden\, AL 35901
UID:e.1432.384470
SEQUENCE:3
DTSTAMP:20260422T195200Z
URL:http://business.etowahchamber.org/events/details/gadsden-etowah-habitat-for-humanity-double-groundbreaking-ceremony-05-09-2014-384470
END:VEVENT

END:VCALENDAR
