BEGIN:VCALENDAR
VERSION:2.0
PRODID:-//ChamberMaster//Event Calendar 2.0//EN
METHOD:PUBLISH
X-PUBLISHED-TTL:P3D
REFRESH-INTERVAL:P3D
CALSCALE:GREGORIAN
BEGIN:VEVENT
DTSTART:20191017T180000Z
DTEND:20191017T190000Z
X-MICROSOFT-CDO-ALLDAYEVENT:FALSE
SUMMARY:Gadsden-Etowah Habitat for Humanity House #53 Dedication
DESCRIPTION:Your are cordially invited to a House Dedication for House #53 with the Gadsden-Etowah Habitat for Humanity(rain or shine).\n\nHome of:\n\nAshley Lemons and children\, Aliyah\, Jayleen\, Avery\, Samija\n\n\n\nEnjoy refreshments and tour of home following the ceremony.\n\n\n\nSponsored by:\n\nWilliam & Elizabeth Simpson\n\nPublix Super Market Charities\n\nHonda Mfg. of AL\n\nWells Fargo Foundation\n\nBlue Cross/Blue Shield Caring Foundation\n\nWalmart Foundation\n\n2018 Habitat Dragon Boat Festival
X-ALT-DESC;FMTTYPE=text/html:<div><span style="font-size:16px\;"><span style="font-family:arial\;">Your are cordially invited to a&nbsp\;House Dedication for House #53 with the Gadsden-Etowah Habitat for Humanity(rain or shine).</span></span></div>\n\n<div><strong><span style="font-size:16px\;"><span style="font-family:arial\;">Home of:</span></span></strong></div>\n\n<div><span style="font-size:16px\;"><span style="font-family:arial\;">Ashley Lemons and children\,&nbsp\;</span></span><span style="font-size:16px\;"><span style="font-family:arial\;">Aliyah\, Jayleen\, Avery\, Samija</span></span></div>\n\n<div><br />\n<span style="font-size:16px\;"><span style="font-family:arial\;">Enjoy refreshments and tour of home following the ceremony.</span></span></div>\n\n<div><br />\n<span style="font-size:16px\;"><span style="font-family:arial\;"><strong>Sponsored by:</strong></span></span></div>\n\n<div><span style="font-size:16px\;"><span style="font-family:arial\;">William &amp\; Elizabeth Simpson</span></span></div>\n\n<div><span style="font-size:16px\;"><span style="font-family:arial\;">Publix Super Market Charities</span></span></div>\n\n<div><span style="font-size:16px\;"><span style="font-family:arial\;">Honda Mfg. of AL</span></span></div>\n\n<div><span style="font-size:16px\;"><span style="font-family:arial\;">Wells Fargo Foundation</span></span></div>\n\n<div><span style="font-size:16px\;"><span style="font-family:arial\;">Blue Cross/Blue Shield Caring Foundation</span></span></div>\n\n<div><span style="font-size:16px\;"><span style="font-family:arial\;">Walmart Foundation</span></span></div>\n\n<div><span style="font-size:16px\;"><span style="font-family:arial\;">2018 Habitat Dragon Boat Festival</span></span></div>\n
LOCATION:House #53
UID:e.1432.401504
SEQUENCE:3
DTSTAMP:20260424T085342Z
URL:http://business.etowahchamber.org/events/details/gadsden-etowah-habitat-for-humanity-house-53-dedication-401504
END:VEVENT

END:VCALENDAR
