BEGIN:VCALENDAR
VERSION:2.0
PRODID:-//ChamberMaster//Event Calendar 2.0//EN
METHOD:PUBLISH
X-PUBLISHED-TTL:P3D
REFRESH-INTERVAL:P3D
CALSCALE:GREGORIAN
BEGIN:VEVENT
DTSTART:20130705T020000Z
DTEND:20130705T022000Z
X-MICROSOFT-CDO-ALLDAYEVENT:FALSE
SUMMARY:Gadsden/Etowah Patriots Association Fireworks Show
DESCRIPTION:Gadsden-Etowah Patriots Association Fireworks Show!!!\n\nJuly 4th at 9pm\n\nThe fireworks will last approximately 20 minutes\, the best view is from the boardwalk area across from Moragne Park!  Celebrate Independence Day with the Gadsden-Etowah Patriots Association.
X-ALT-DESC;FMTTYPE=text/html:<span style="font-size:18px\;"><span style="font-size:26px\;"><span style="font-family: 'times new roman'\;"><strong><span style="color: rgb(0\, 0\, 205)\;">Gadsden-Etowah Patriots Association Fireworks Show!!!</span></strong></span></span><br />\n<strong><span style="color: rgb(255\, 0\, 0)\;">July 4th at 9pm</span></strong><br />\n<span style="font-size: 14px\;">The fireworks will last approximately 20 minutes\, the best view is from the boardwalk area across from Moragne Park! &nbsp\;Celebrate Independence Day with the Gadsden-Etowah&nbsp\;Patriots Association.</span></span>
LOCATION:Best view is from the Boardwalk area across from Moragne Park! Hwy 411/Albert Rains Blvd.
UID:e.1432.383333
SEQUENCE:3
DTSTAMP:20260423T102935Z
URL:http://business.etowahchamber.org/events/details/gadsden-etowah-patriots-association-fireworks-show-07-04-2013-383333
END:VEVENT

END:VCALENDAR
