BEGIN:VCALENDAR
VERSION:2.0
PRODID:-//ChamberMaster//Event Calendar 2.0//EN
METHOD:PUBLISH
X-PUBLISHED-TTL:P3D
REFRESH-INTERVAL:P3D
CALSCALE:GREGORIAN
BEGIN:VEVENT
DTSTART:20140705T020000Z
DTEND:20140705T030000Z
X-MICROSOFT-CDO-ALLDAYEVENT:FALSE
SUMMARY:Gadsden-Etowah Patriots Association Independence Day Fireworks Celebration
DESCRIPTION:It's a beautiful Fireworks Spectacular on the banks of the beautiful Coosa River! Don't miss it. Bring your blankets!
X-ALT-DESC;FMTTYPE=text/html:<span style="color: rgb(68\, 68\, 68)\; font-family: 'Open Sans'\, Helvetica\, Arial\, sans-serif\; font-size: 14px\; line-height: 24px\;">It&rsquo\;s a beautiful Fireworks Spectacular on the banks of the beautiful Coosa River! Don&rsquo\;t miss it. Bring your blankets!</span>
LOCATION:The banks of the Coosa near Downtown Gadsden.
UID:e.1432.384319
SEQUENCE:3
DTSTAMP:20260422T171331Z
URL:http://business.etowahchamber.org/events/details/gadsden-etowah-patriots-association-independence-day-fireworks-celebration-07-04-2014-384319
END:VEVENT

END:VCALENDAR
