BEGIN:VCALENDAR
VERSION:2.0
PRODID:-//ChamberMaster//Event Calendar 2.0//EN
METHOD:PUBLISH
X-PUBLISHED-TTL:P3D
REFRESH-INTERVAL:P3D
CALSCALE:GREGORIAN
BEGIN:VEVENT
DTSTART:20140428T123000Z
DTEND:20140428T220000Z
X-MICROSOFT-CDO-ALLDAYEVENT:FALSE
SUMMARY:Gadsden-Etowah Patriots Association Patriots Golf Tournament
DESCRIPTION:Gadsden-Etowah Patriots Association along with Patriotic Partners Janie Terrell\, Mountain Top Flea Market\, Life of Alabama\, Sheriff Todd Entrekin\, and Exchange Bank Presents the annual Patriots Golf Tournament fundraiser on Monday April 28\, 2014. Registration is at 7:30am with 8:30am tee time. Saturday May 17\, 2014 is the scheduled rain date for this event in case of inclement weather
X-ALT-DESC;FMTTYPE=text/html:&nbsp\;&nbsp\;&nbsp\;&nbsp\;&#8203\;<span style="color:black\;"><span style="font-family:helvetica\,sans-serif\;">Gadsden-Etowah Patriots Association along with Patriotic Partners Janie Terrell\, Mountain Top Flea Market\, Life of Alabama\, Sheriff Todd Entrekin\, and Exchange Bank Presents the annual Patriots Golf Tournament fundraiser on Monday April 28\, 2014. Registration is at 7:30am with&nbsp\;8:30am tee time.&nbsp\;Saturday May 17\, 2014 is the scheduled rain date for this event in case of inclement weather</span></span>
LOCATION:Twin Bridges Golf Club
UID:e.1432.384457
SEQUENCE:3
DTSTAMP:20260422T211244Z
URL:http://business.etowahchamber.org/events/details/gadsden-etowah-patriots-association-patriots-golf-tournament-04-28-2014-384457
END:VEVENT

END:VCALENDAR
