BEGIN:VCALENDAR
VERSION:2.0
PRODID:-//ChamberMaster//Event Calendar 2.0//EN
METHOD:PUBLISH
X-PUBLISHED-TTL:P3D
REFRESH-INTERVAL:P3D
CALSCALE:GREGORIAN
BEGIN:VEVENT
DTSTART;VALUE=DATE:20130614
DTEND;VALUE=DATE:20130615
TRANSP:TRANSPARENT
X-MICROSOFT-CDO-ALLDAYEVENT:TRUE
SUMMARY:Gadsden Public Library Fundraiser Night
DESCRIPTION:Gadsden Public Library Fundraiser Night at Pizza Hut\, Please mention voucher when ordering.  Voucher must be presented to server or delivery driver for your purchase to count towards the Organization's Fundraiser Night Sales.  Online Orders use promo code LIBRARY at pizzahut.com\n\nThis is ALL DAY on June 14th!  Nearest Location: 607 East Meighan BLVD\, Gadsden (Honored at all NPC Pizza Huts)
X-ALT-DESC;FMTTYPE=text/html:Gadsden Public Library Fundraiser Night at Pizza Hut\, Please mention voucher when ordering. &nbsp\;Voucher must be presented to server or delivery driver for your purchase to count towards the Organization&#39\;s Fundraiser Night Sales. &nbsp\;Online Orders use promo code LIBRARY at pizzahut.com<br />\nThis is ALL DAY on June 14th! &nbsp\;Nearest Location: 607 East Meighan&nbsp\;BLVD\, Gadsden (Honored at all NPC Pizza Huts)
LOCATION:All NPC Pizza Hut Locations
UID:e.1432.383303
SEQUENCE:3
DTSTAMP:20260423T102753Z
URL:http://business.etowahchamber.org/events/details/gadsden-public-library-fundraiser-night-06-14-2013-383303
END:VEVENT

END:VCALENDAR
