BEGIN:VCALENDAR
VERSION:2.0
PRODID:-//ChamberMaster//Event Calendar 2.0//EN
METHOD:PUBLISH
X-PUBLISHED-TTL:P3D
REFRESH-INTERVAL:P3D
CALSCALE:GREGORIAN
BEGIN:VEVENT
DTSTART:20120609T160000Z
DTEND:20120610T040000Z
X-MICROSOFT-CDO-ALLDAYEVENT:FALSE
SUMMARY:Gadsden RiverFest Country Night 2012
DESCRIPTION:Gadsden RiverFest\, June 9th\n\nJamey Johnson\, Oak Ridge Boys and Drake White
X-ALT-DESC;FMTTYPE=text/html:Gadsden RiverFest\, June 9th<br />\nJamey Johnson\, Oak Ridge Boys and Drake White
LOCATION:Albert Rains Blvd\, on the banks of the Coosa River
UID:e.1432.381467
SEQUENCE:3
DTSTAMP:20260422T204503Z
URL:http://business.etowahchamber.org/events/details/gadsden-riverfest-country-night-2012-06-09-2012-381467
END:VEVENT

END:VCALENDAR
