BEGIN:VCALENDAR
VERSION:2.0
PRODID:-//ChamberMaster//Event Calendar 2.0//EN
METHOD:PUBLISH
X-PUBLISHED-TTL:P3D
REFRESH-INTERVAL:P3D
CALSCALE:GREGORIAN
BEGIN:VEVENT
DTSTART:20120608T210000Z
DTEND:20120609T040000Z
X-MICROSOFT-CDO-ALLDAYEVENT:FALSE
SUMMARY:Gadsden RiverFest Rock Night 2012
DESCRIPTION:Gadsden RiverFest 2012...\n\nFuel\, Lou Gramm of Foreigner and Skid Row
X-ALT-DESC;FMTTYPE=text/html:Gadsden RiverFest 2012...<br />\nFuel\, Lou Gramm of Foreigner and Skid Row<br />\n<br />\n
LOCATION:Albert Rains Blvd\, on the banks of the Coosa River
UID:e.1432.381466
SEQUENCE:3
DTSTAMP:20260422T192422Z
URL:http://business.etowahchamber.org/events/details/gadsden-riverfest-rock-night-2012-06-08-2012-381466
END:VEVENT

END:VCALENDAR
