BEGIN:VCALENDAR
VERSION:2.0
PRODID:-//ChamberMaster//Event Calendar 2.0//EN
METHOD:PUBLISH
X-PUBLISHED-TTL:P3D
REFRESH-INTERVAL:P3D
CALSCALE:GREGORIAN
BEGIN:VEVENT
DTSTART:20141030T230000Z
DTEND:20141031T010000Z
X-MICROSOFT-CDO-ALLDAYEVENT:FALSE
SUMMARY:Gadsden Service Guild Rumamge Sale Preview Night
DESCRIPTION:Join us\n\nfor the Gadsden Service Guild\n\nRummage Sale\n\nVIP Preview Party\n\n\n\nexclusive access to fabulous deals\n\n\n\nEnjoy cocktails\, live music and treats while you shop to\n\nsupprort Etowah County Non-Profits!\n\n\n\nThursday\, October 30\, 2014\n\n6-8PM\n\nGadsden Convention Hall\n\n\n\nTickets are $10\n\nTickets can be purchased at Calla Lilies Boutique\, Keystone Bank or Steed Tax Service\n\n\n\nPreview Party pricing will be double sticker price
X-ALT-DESC;FMTTYPE=text/html:<div style="text-align: center\;">Join us<br />\nfor the Gadsden Service Guild<br />\nRummage Sale<br />\nVIP Preview Party<br />\n<br />\nexclusive access to fabulous deals<br />\n<br />\nEnjoy cocktails\, live music and treats while you shop to<br />\nsupprort Etowah County Non-Profits!<br />\n<br />\nThursday\, October 30\, 2014<br />\n6-8PM<br />\nGadsden Convention Hall<br />\n<br />\nTickets are $10<br />\nTickets can be purchased at Calla Lilies Boutique\, Keystone Bank or Steed Tax Service<br />\n<br />\nPreview Party pricing will be double sticker price<br />\n&nbsp\;</div>\n
LOCATION:Gadsden Convention Hall
UID:e.1432.385053
SEQUENCE:3
DTSTAMP:20260422T132155Z
URL:http://business.etowahchamber.org/events/details/gadsden-service-guild-rumamge-sale-preview-night-10-30-2014-385053
END:VEVENT

END:VCALENDAR
