BEGIN:VCALENDAR
VERSION:2.0
PRODID:-//ChamberMaster//Event Calendar 2.0//EN
METHOD:PUBLISH
X-PUBLISHED-TTL:P3D
REFRESH-INTERVAL:P3D
CALSCALE:GREGORIAN
BEGIN:VEVENT
DTSTART:20201012T173000Z
DTEND:20201012T183000Z
X-MICROSOFT-CDO-ALLDAYEVENT:FALSE
SUMMARY:Gadsden State Community College SGA Meeting
DESCRIPTION:First Student Government Association\n\nIn-person at Science Building Auditorium or virtually by Zoom\n\nZoom Access: https://us02web.zoom.us/j/84355815265
X-ALT-DESC;FMTTYPE=text/html:<span style="font-size:16px\;"><span style="font-family:arial\;"><strong>First Student Government Association</strong><br />\nIn-person at Science Building Auditorium or virtually by Zoom<br />\nZoom Access: <strong><a href="https://us02web.zoom.us/j/84355815265"><span style="color:#0000FF\;">https://us02web.zoom.us/j/84355815265</span></a></strong></span></span>
LOCATION:Gadsden State Community College- Science Building(or via Zoom)
UID:e.1432.403442
SEQUENCE:3
DTSTAMP:20260421T081717Z
URL:http://business.etowahchamber.org/events/details/gadsden-state-community-college-sga-meeting-403442
END:VEVENT

END:VCALENDAR
