BEGIN:VCALENDAR
VERSION:2.0
PRODID:-//ChamberMaster//Event Calendar 2.0//EN
METHOD:PUBLISH
X-PUBLISHED-TTL:P3D
REFRESH-INTERVAL:P3D
CALSCALE:GREGORIAN
BEGIN:VEVENT
DTSTART;VALUE=DATE:20120822
DTEND;VALUE=DATE:20120823
TRANSP:TRANSPARENT
X-MICROSOFT-CDO-ALLDAYEVENT:TRUE
SUMMARY:Gadsden State Fall 2012 - First Day of Class
DESCRIPTION:
X-ALT-DESC;FMTTYPE=text/html:
LOCATION:
UID:e.1432.381536
SEQUENCE:3
DTSTAMP:20260422T214732Z
URL:http://business.etowahchamber.org/events/details/gadsden-state-fall-2012-first-day-of-class-08-22-2012-381536
END:VEVENT

END:VCALENDAR
