BEGIN:VCALENDAR
VERSION:2.0
PRODID:-//ChamberMaster//Event Calendar 2.0//EN
METHOD:PUBLISH
X-PUBLISHED-TTL:P3D
REFRESH-INTERVAL:P3D
CALSCALE:GREGORIAN
BEGIN:VEVENT
DTSTART;VALUE=DATE:20120717
DTEND;VALUE=DATE:20120718
TRANSP:TRANSPARENT
X-MICROSOFT-CDO-ALLDAYEVENT:TRUE
SUMMARY:Gadsden State Fall 2012 Online Registration
DESCRIPTION:Fall 2012 Registration begins at noon - online only
X-ALT-DESC;FMTTYPE=text/html:Fall 2012 Registration begins at noon - online only
LOCATION:
UID:e.1432.381534
SEQUENCE:3
DTSTAMP:20260422T203531Z
URL:http://business.etowahchamber.org/events/details/gadsden-state-fall-2012-online-registration-07-17-2012-381534
END:VEVENT

END:VCALENDAR
