BEGIN:VCALENDAR
VERSION:2.0
PRODID:-//ChamberMaster//Event Calendar 2.0//EN
METHOD:PUBLISH
X-PUBLISHED-TTL:P3D
REFRESH-INTERVAL:P3D
CALSCALE:GREGORIAN
BEGIN:VEVENT
DTSTART:20120619T130000Z
DTEND:20120620T170000Z
X-MICROSOFT-CDO-ALLDAYEVENT:FALSE
SUMMARY:Gadsden State Girls Basketball Campus
DESCRIPTION:For girls 8 - 16 years of age
X-ALT-DESC;FMTTYPE=text/html:For girls 8 - 16 years of age
LOCATION:Beck Field House\, Wallace Drive Campus
UID:e.1432.381500
SEQUENCE:3
DTSTAMP:20260422T192943Z
URL:http://business.etowahchamber.org/events/details/gadsden-state-girls-basketball-campus-06-19-2012-381500
END:VEVENT

END:VCALENDAR
