BEGIN:VCALENDAR
VERSION:2.0
PRODID:-//ChamberMaster//Event Calendar 2.0//EN
METHOD:PUBLISH
X-PUBLISHED-TTL:P3D
REFRESH-INTERVAL:P3D
CALSCALE:GREGORIAN
BEGIN:VEVENT
DTSTART:20201001T150000Z
DTEND:20201001T170000Z
X-MICROSOFT-CDO-ALLDAYEVENT:FALSE
SUMMARY:Gadsden State Transfer Talks with Belmont University
DESCRIPTION:Gadsden State Advisement Resource Center invites Gadsden State students to join a virtual session & learn more about transferring to Belmont University in Nashville\, TN.
X-ALT-DESC;FMTTYPE=text/html:<span style="font-size:16px\;"><span style="font-family:arial\;">Gadsden State Advisement Resource Center invites Gadsden State students to join a virtual session &amp\; learn more about transferring to Belmont University in Nashville\, TN.</span></span>
LOCATION:
UID:e.1432.403298
SEQUENCE:3
DTSTAMP:20260421T081255Z
URL:http://business.etowahchamber.org/events/details/gadsden-state-transfer-talks-with-belmont-university-403298
END:VEVENT

END:VCALENDAR
