BEGIN:VCALENDAR
VERSION:2.0
PRODID:-//ChamberMaster//Event Calendar 2.0//EN
METHOD:PUBLISH
X-PUBLISHED-TTL:P3D
REFRESH-INTERVAL:P3D
CALSCALE:GREGORIAN
BEGIN:VEVENT
DTSTART:20201022T170000Z
DTEND:20201022T180000Z
X-MICROSOFT-CDO-ALLDAYEVENT:FALSE
SUMMARY:Gadsden State Transfer Talks with Spring Hill College
DESCRIPTION:Gadsden State Advisement Resource Center invites Gadsden State students to join a virtual session & learn more about transferring to Spring Hill College.
X-ALT-DESC;FMTTYPE=text/html:<span style="font-size:16px\;"><span style="font-family:arial\;">Gadsden State Advisement Resource Center invites Gadsden State students to join a virtual session &amp\; learn more about transferring to Spring Hill College.</span></span>
LOCATION:
UID:e.1432.403476
SEQUENCE:3
DTSTAMP:20260421T121953Z
URL:http://business.etowahchamber.org/events/details/gadsden-state-transfer-talks-with-spring-hill-college-403476
END:VEVENT

END:VCALENDAR
