BEGIN:VCALENDAR
VERSION:2.0
PRODID:-//ChamberMaster//Event Calendar 2.0//EN
METHOD:PUBLISH
X-PUBLISHED-TTL:P3D
REFRESH-INTERVAL:P3D
CALSCALE:GREGORIAN
BEGIN:VEVENT
DTSTART:20120613T130000Z
DTEND:20120616T030000Z
X-MICROSOFT-CDO-ALLDAYEVENT:FALSE
SUMMARY:Gadsden State Varsity Girls Basketball Camp
DESCRIPTION:Gadsden State Varsity Girls Basketball Camp
X-ALT-DESC;FMTTYPE=text/html:Gadsden State Varsity Girls Basketball Camp
LOCATION:Beck Field House\, Wallace Drive Campus
UID:e.1432.381499
SEQUENCE:3
DTSTAMP:20260422T192841Z
URL:http://business.etowahchamber.org/events/details/gadsden-state-varsity-girls-basketball-camp-06-13-2012-381499
END:VEVENT

END:VCALENDAR
