BEGIN:VCALENDAR
VERSION:2.0
PRODID:-//ChamberMaster//Event Calendar 2.0//EN
METHOD:PUBLISH
X-PUBLISHED-TTL:P3D
REFRESH-INTERVAL:P3D
CALSCALE:GREGORIAN
BEGIN:VEVENT
DTSTART:20120611T150000Z
DTEND:20120613T230000Z
X-MICROSOFT-CDO-ALLDAYEVENT:FALSE
SUMMARY:Gadsden State Varsity Girls Softball Camp
DESCRIPTION:Gadsden State Varsity Girls Softball Camp
X-ALT-DESC;FMTTYPE=text/html:Gadsden State Varsity Girls Softball Camp
LOCATION:Gadsden State Wallace Drive Campus\, Softball Fields
UID:e.1432.381498
SEQUENCE:3
DTSTAMP:20260422T204551Z
URL:http://business.etowahchamber.org/events/details/gadsden-state-varsity-girls-softball-camp-06-11-2012-381498
END:VEVENT

END:VCALENDAR
