BEGIN:VCALENDAR
VERSION:2.0
PRODID:-//ChamberMaster//Event Calendar 2.0//EN
METHOD:PUBLISH
X-PUBLISHED-TTL:P3D
REFRESH-INTERVAL:P3D
CALSCALE:GREGORIAN
BEGIN:VEVENT
DTSTART:20120725T140000Z
DTEND:20120725T200000Z
X-MICROSOFT-CDO-ALLDAYEVENT:FALSE
SUMMARY:Gadsden State Varsity Play-Date Camp
DESCRIPTION:Gadsden State Varsity Play-Date Camp
X-ALT-DESC;FMTTYPE=text/html:Gadsden State Varsity Play-Date Camp
LOCATION:Beck Field House\, Wallace Drive Campus
UID:e.1432.381504
SEQUENCE:3
DTSTAMP:20260422T215118Z
URL:http://business.etowahchamber.org/events/details/gadsden-state-varsity-play-date-camp-07-25-2012-381504
END:VEVENT

END:VCALENDAR
