BEGIN:VCALENDAR
VERSION:2.0
PRODID:-//ChamberMaster//Event Calendar 2.0//EN
METHOD:PUBLISH
X-PUBLISHED-TTL:P3D
REFRESH-INTERVAL:P3D
CALSCALE:GREGORIAN
BEGIN:VEVENT
DTSTART:20120718T140000Z
DTEND:20120718T200000Z
X-MICROSOFT-CDO-ALLDAYEVENT:FALSE
SUMMARY:Gadsden State Varsity Volleyball Camp
DESCRIPTION:Gadsden State Varsity Volleyball Camp
X-ALT-DESC;FMTTYPE=text/html:Gadsden State Varsity Volleyball Camp
LOCATION:Beck Field House\, Wallace Drive Campus
UID:e.1432.381501
SEQUENCE:3
DTSTAMP:20260422T204345Z
URL:http://business.etowahchamber.org/events/details/gadsden-state-varsity-volleyball-camp-07-18-2012-381501
END:VEVENT

END:VCALENDAR
