BEGIN:VCALENDAR
VERSION:2.0
PRODID:-//ChamberMaster//Event Calendar 2.0//EN
METHOD:PUBLISH
X-PUBLISHED-TTL:P3D
REFRESH-INTERVAL:P3D
CALSCALE:GREGORIAN
BEGIN:VEVENT
DTSTART:20120723T140000Z
DTEND:20120723T200000Z
X-MICROSOFT-CDO-ALLDAYEVENT:FALSE
SUMMARY:Gadsden State Volleyball Hitters Camp
DESCRIPTION:Gadsden State Volleyball Hitters Camp
X-ALT-DESC;FMTTYPE=text/html:Gadsden State Volleyball Hitters Camp
LOCATION:Beck Field House\, Wallace Drive Campus
UID:e.1432.381502
SEQUENCE:3
DTSTAMP:20260422T203644Z
URL:http://business.etowahchamber.org/events/details/gadsden-state-volleyball-hitters-camp-07-23-2012-381502
END:VEVENT

END:VCALENDAR
