BEGIN:VCALENDAR
VERSION:2.0
PRODID:-//ChamberMaster//Event Calendar 2.0//EN
METHOD:PUBLISH
X-PUBLISHED-TTL:P3D
REFRESH-INTERVAL:P3D
CALSCALE:GREGORIAN
BEGIN:VEVENT
DTSTART:20120724T140000Z
DTEND:20120724T200000Z
X-MICROSOFT-CDO-ALLDAYEVENT:FALSE
SUMMARY:Gadsden State Volleyball Setter/Defense Camp
DESCRIPTION:Gadsden State Volleyball Setter/Defense Camp
X-ALT-DESC;FMTTYPE=text/html:Gadsden State Volleyball Setter/Defense Camp
LOCATION:Beck Field House\, Wallace Drive Campus
UID:e.1432.381503
SEQUENCE:3
DTSTAMP:20260422T214940Z
URL:http://business.etowahchamber.org/events/details/gadsden-state-volleyball-setter-defense-camp-07-24-2012-381503
END:VEVENT

END:VCALENDAR
