BEGIN:VCALENDAR
VERSION:2.0
PRODID:-//ChamberMaster//Event Calendar 2.0//EN
METHOD:PUBLISH
X-PUBLISHED-TTL:P3D
REFRESH-INTERVAL:P3D
CALSCALE:GREGORIAN
BEGIN:VEVENT
DTSTART:20140429T230000Z
DTEND:20140430T010000Z
X-MICROSOFT-CDO-ALLDAYEVENT:FALSE
SUMMARY:Gadsden Symphony Orchestra's "Voices of Spring"
DESCRIPTION:Gadsden Symphony Orchestra presents "Voices of Spring"\n\nGadsden City High School Performance Center\n\nTuesday\, April 29\, 2014\, 6 p.m.
X-ALT-DESC;FMTTYPE=text/html:Gadsden Symphony Orchestra presents &quot\;Voices of Spring&quot\;<br />\nGadsden City High School Performance Center<br />\nTuesday\, April 29\, 2014\, 6 p.m.
LOCATION:Gadsden City High School Performance Center
UID:e.1432.384205
SEQUENCE:3
DTSTAMP:20260422T223026Z
URL:http://business.etowahchamber.org/events/details/gadsden-symphony-orchestra-s-voices-of-spring-04-29-2014-384205
END:VEVENT

END:VCALENDAR
