BEGIN:VCALENDAR
VERSION:2.0
PRODID:-//ChamberMaster//Event Calendar 2.0//EN
METHOD:PUBLISH
X-PUBLISHED-TTL:P3D
REFRESH-INTERVAL:P3D
CALSCALE:GREGORIAN
BEGIN:VEVENT
DTSTART:20190307T233000Z
DTEND:20190308T013000Z
X-MICROSOFT-CDO-ALLDAYEVENT:FALSE
SUMMARY:Girl Scout - One Smart Cookie Celebration
DESCRIPTION:Join Girl Scouts of North-Central Alabama at our annual One Smart Cookie Celebration recognizing the 2019 Women of Distinction in East Alabama. 2019 Honorees: Frances E. Couch Lifetime Achievement Award Joanne C. Hightower - Executive Director\, United Way of Etowah County Women of Distinction Leslie Edmondson - Director of Marketing and Nurse Recruitment\, Gadsden Regional Medical Center Kim Kidd   Owner\, The Willow Tree Linze Rickles McRae - Artistic Director\, The Downtown Dance Conservatory Heather Brothers New   President\, The Chamber of Gadsden and Etowah County\, Inc. Dr. Cynthia W. Toles - Councilwoman District 1\, City of Gadsden Dr. Alina Monica Trifas - Associate Professor of Computer Science\, Jacksonville State University Funds raised at this event support Girl Scouts in East Alabama.
X-ALT-DESC;FMTTYPE=text/html:Join Girl Scouts of North-Central Alabama at our annual One Smart Cookie Celebration recognizing the 2019 Women of Distinction in East Alabama. 2019 Honorees: Frances E. Couch Lifetime Achievement Award Joanne C. Hightower - Executive Director\, United Way of Etowah County Women of Distinction Leslie Edmondson - Director of Marketing and Nurse Recruitment\, Gadsden Regional Medical Center Kim Kidd &ndash\; Owner\, The Willow Tree Linze Rickles McRae - Artistic Director\, The Downtown Dance Conservatory Heather Brothers New &ndash\; President\, The Chamber of Gadsden and Etowah County\, Inc. Dr. Cynthia W. Toles - Councilwoman District 1\, City of Gadsden Dr. Alina Monica Trifas - Associate Professor of Computer Science\, Jacksonville State University Funds raised at this event support Girl Scouts in East Alabama.
LOCATION:The Venue at Coosa Landing 201 George Wallace Drive Gadsden\, Al 35903
UID:e.1432.400256
SEQUENCE:3
DTSTAMP:20260422T112311Z
URL:http://business.etowahchamber.org/events/details/girl-scout-one-smart-cookie-celebration-400256
END:VEVENT

END:VCALENDAR
