BEGIN:VCALENDAR
VERSION:2.0
PRODID:-//ChamberMaster//Event Calendar 2.0//EN
METHOD:PUBLISH
X-PUBLISHED-TTL:P3D
REFRESH-INTERVAL:P3D
CALSCALE:GREGORIAN
BEGIN:VEVENT
DTSTART:20121030T220000Z
DTEND:20121031T020000Z
X-MICROSOFT-CDO-ALLDAYEVENT:FALSE
SUMMARY:Girls' Night Out at Jireh's Boutique
DESCRIPTION:Come celebrate a girls' night out with the staff of Jireh's Boutique!
X-ALT-DESC;FMTTYPE=text/html:Come celebrate a girls&#39\; night out with the staff of Jireh&#39\;s Boutique!
LOCATION:Jireh's Boutique and Gifts 546 Broad Street Gadsen\, AL
UID:e.1432.382805
SEQUENCE:3
DTSTAMP:20260423T020510Z
URL:http://business.etowahchamber.org/events/details/girls-night-out-at-jireh-s-boutique-10-30-2012-382805
END:VEVENT

END:VCALENDAR
