BEGIN:VCALENDAR
VERSION:2.0
PRODID:-//ChamberMaster//Event Calendar 2.0//EN
METHOD:PUBLISH
X-PUBLISHED-TTL:P3D
REFRESH-INTERVAL:P3D
CALSCALE:GREGORIAN
BEGIN:VEVENT
DTSTART:20140518T030000Z
DTEND:20140517T230000Z
X-MICROSOFT-CDO-ALLDAYEVENT:FALSE
SUMMARY:Glencoe Celebration in the Park
DESCRIPTION:Glencoe's Celebration in the Park! \n\nEnjoy FREE hotdogs\, Pepsi products\, cotton candy and more!!!\n\nSee the NEW Splash Pad at the City Park!!!\n\nEntertainment throughout the day including:\n\nRibbon Cutting of the New Splash Pad at Noon!\n\nAndrea Davis to perform the National Anthem at 10am\n\nSouth Ridge 10:15 - Noon\n\nVintage Grey  Noon - 2pm\n\nand Headliner Kate Falcon 2pm - 4pm
X-ALT-DESC;FMTTYPE=text/html:Glencoe&#39\;s Celebration in the Park!&nbsp\;<br />\nEnjoy FREE hotdogs\, Pepsi products\, cotton candy and more!!!<br />\nSee the NEW Splash Pad at the City Park!!!<br />\nEntertainment throughout the day including:<br />\nRibbon Cutting of the New Splash Pad at Noon!<br />\nAndrea Davis to perform the National Anthem at 10am<br />\nSouth Ridge 10:15 - Noon<br />\nVintage Grey&nbsp\; Noon - 2pm<br />\nand Headliner Kate Falcon 2pm - 4pm<br />\n&nbsp\;
LOCATION:Glencoe City Park
UID:e.1432.384250
SEQUENCE:3
DTSTAMP:20260422T195048Z
URL:http://business.etowahchamber.org/events/details/glencoe-celebration-in-the-park-05-17-2014-384250
END:VEVENT

END:VCALENDAR
