BEGIN:VCALENDAR
VERSION:2.0
PRODID:-//ChamberMaster//Event Calendar 2.0//EN
METHOD:PUBLISH
X-PUBLISHED-TTL:P3D
REFRESH-INTERVAL:P3D
CALSCALE:GREGORIAN
BEGIN:VEVENT
DTSTART:20190806T120000Z
DTEND:20190806T180000Z
X-MICROSOFT-CDO-ALLDAYEVENT:FALSE
SUMMARY:Glencoe Farmers Market
DESCRIPTION:The Glencoe Farmers Market is held every Tuesday from June thru September.
X-ALT-DESC;FMTTYPE=text/html:<span style="font-size:16px\;"><span style="font-family:arial\;">The Glencoe Farmers Market is held every Tuesday from June thru September.</span></span>
LOCATION:Glencoe Police Department 201 Chastain Boulevard Glencoe\, AL 35905
UID:e.1432.401251
SEQUENCE:3
DTSTAMP:20260422T053423Z
URL:http://business.etowahchamber.org/events/details/glencoe-farmers-market-08-06-2019-401251
END:VEVENT

END:VCALENDAR
