BEGIN:VCALENDAR
VERSION:2.0
PRODID:-//ChamberMaster//Event Calendar 2.0//EN
METHOD:PUBLISH
X-PUBLISHED-TTL:P3D
REFRESH-INTERVAL:P3D
CALSCALE:GREGORIAN
BEGIN:VEVENT
DTSTART:20130813T120000Z
DTEND:20130813T180000Z
X-MICROSOFT-CDO-ALLDAYEVENT:FALSE
SUMMARY:Glencoe Farmers Market
DESCRIPTION:Glencoe Farmers Market    \n\nFresh Fruits and Vegetables from local growers
X-ALT-DESC;FMTTYPE=text/html:Glencoe Farmers Market&nbsp\;&nbsp\;&nbsp\;&nbsp\;<br />\nFresh Fruits and Vegetables from local growers
LOCATION:beside city hall
UID:e.1432.383762
SEQUENCE:3
DTSTAMP:20260423T075554Z
URL:http://business.etowahchamber.org/events/details/glencoe-farmers-market-08-13-2013-383762
END:VEVENT

END:VCALENDAR
