BEGIN:VCALENDAR
VERSION:2.0
PRODID:-//ChamberMaster//Event Calendar 2.0//EN
METHOD:PUBLISH
X-PUBLISHED-TTL:P3D
REFRESH-INTERVAL:P3D
CALSCALE:GREGORIAN
BEGIN:VEVENT
DTSTART:20120910T130000Z
DTEND:20120910T190000Z
X-MICROSOFT-CDO-ALLDAYEVENT:FALSE
SUMMARY:Glencoe High School September 11 Blood Drive
DESCRIPTION:
X-ALT-DESC;FMTTYPE=text/html:
LOCATION:Glencoe High School
UID:e.1432.382752
SEQUENCE:3
DTSTAMP:20260422T231619Z
URL:http://business.etowahchamber.org/events/details/glencoe-high-school-september-11-blood-drive-09-10-2012-382752
END:VEVENT

END:VCALENDAR
