BEGIN:VCALENDAR
VERSION:2.0
PRODID:-//ChamberMaster//Event Calendar 2.0//EN
METHOD:PUBLISH
X-PUBLISHED-TTL:P3D
REFRESH-INTERVAL:P3D
CALSCALE:GREGORIAN
BEGIN:VEVENT
DTSTART:20121109T153000Z
DTEND:20121109T163000Z
X-MICROSOFT-CDO-ALLDAYEVENT:FALSE
SUMMARY:Glencoe High School Student Government Association Veteran's Day Program
DESCRIPTION:Glencoe High School Student Government Association annual Veteran's Day Program with keynote speaker Mr Rick Vaughan\, President of the Etowah Patriots Association.  Friday\, November 9th\, 9:30am at Glencoe High School Gymnasium 803 Lonesome Bend Road\, Glencoe.
X-ALT-DESC;FMTTYPE=text/html:Glencoe High School Student Government Association annual Veteran&#39\;s Day Program with keynote speaker Mr Rick Vaughan\, President of the Etowah Patriots Association. &nbsp\;Friday\, November 9th\, 9:30am at Glencoe High School Gymnasium 803 Lonesome Bend Road\, Glencoe.
LOCATION:Glencoe High School Gym - 803 Lonesome Bend Road\, Glencoe
UID:e.1432.382792
SEQUENCE:3
DTSTAMP:20260423T020120Z
URL:http://business.etowahchamber.org/events/details/glencoe-high-school-student-government-association-veteran-s-day-program-11-09-2012-382792
END:VEVENT

END:VCALENDAR
