BEGIN:VCALENDAR
VERSION:2.0
PRODID:-//ChamberMaster//Event Calendar 2.0//EN
METHOD:PUBLISH
X-PUBLISHED-TTL:P3D
REFRESH-INTERVAL:P3D
CALSCALE:GREGORIAN
BEGIN:VEVENT
DTSTART:20181203T003000Z
DTEND:20181203T010000Z
X-MICROSOFT-CDO-ALLDAYEVENT:FALSE
SUMMARY:Glencoe Lights Ceremony at First Baptist Glencoe
DESCRIPTION:The eighth annual Lighting Ceremony for Glencoe Lights. Glencoe Lights is a large animated Christmas Light Show located at First Baptist Glencoe. There is no cost\, you simply drive up and tune your car radio to 90.5 FM to hear the music.\n\n\n\nFor the lighting ceremony we will have speakers pumping the music for the initial show so that everyone can stand together and enjoy it. We suggest arriving at least 30 minutes early to find a park and stake out your spot.
X-ALT-DESC;FMTTYPE=text/html:<span style="font-size:16px\;"><span style="font-family:arial\;">The eighth annual Lighting Ceremony for Glencoe Lights. Glencoe Lights is a large animated Christmas Light Show located at First Baptist Glencoe. There is no cost\, you simply drive up and tune your car radio to 90.5 FM to hear the music.<br />\n<br />\nFor the lighting ceremony we will have speakers pumping the music for the initial show so that everyone can stand together and enjoy it. We suggest arriving at least 30 minutes early to find a park and stake out your spot.</span></span>
LOCATION:First Baptist Glencoe 103 North College Street Glencoe\, AL 35905
UID:e.1432.398422
SEQUENCE:3
DTSTAMP:20260422T152305Z
URL:http://business.etowahchamber.org/events/details/glencoe-lights-ceremony-at-first-baptist-glencoe-398422
END:VEVENT

END:VCALENDAR
