BEGIN:VCALENDAR
VERSION:2.0
PRODID:-//ChamberMaster//Event Calendar 2.0//EN
METHOD:PUBLISH
X-PUBLISHED-TTL:P3D
REFRESH-INTERVAL:P3D
CALSCALE:GREGORIAN
BEGIN:VEVENT
DTSTART:20201031T150000Z
DTEND:20201101T020000Z
X-MICROSOFT-CDO-ALLDAYEVENT:FALSE
SUMMARY:Glow Light Festival Week at GadRock: Costume Climb Day
DESCRIPTION:Join GadRock for an awesome week of Glow Light Festival Shenanigans from October 26th through 31st! Lights out nightly at 6 PM with something for everyone!\n\n\n\nSaturday\, October 31st\n\n\n	All day\, climbers in costume will be 1/2 off! Time to creative! Lights out at 6pm for black light climbing\, and fluorescent colors work best under that light.
X-ALT-DESC;FMTTYPE=text/html:<span style="font-size:16px\;"><span style="font-family:arial\;">Join GadRock for an awesome week of Glow Light Festival Shenanigans from October 26th through 31st! Lights out nightly at 6 PM with something for everyone!<br />\n<br />\n<u><strong>Saturday\, October 31st</strong></u></span></span>\n\n<ul>\n	<li><span style="font-size:16px\;"><span style="font-family:arial\;">All day\, climbers in costume will be 1/2 off! Time to creative! Lights out at 6pm for black light climbing\, and fluorescent colors work best under that light.</span></span></li>\n</ul>\n
LOCATION:GadRock
UID:e.1432.403492
SEQUENCE:3
DTSTAMP:20260421T081927Z
URL:http://business.etowahchamber.org/events/details/glow-light-festival-week-at-gadrock-costume-climb-day-403492
END:VEVENT

END:VCALENDAR
