BEGIN:VCALENDAR
VERSION:2.0
PRODID:-//ChamberMaster//Event Calendar 2.0//EN
METHOD:PUBLISH
X-PUBLISHED-TTL:P3D
REFRESH-INTERVAL:P3D
CALSCALE:GREGORIAN
BEGIN:VEVENT
DTSTART:20201028T230000Z
DTEND:20201029T010000Z
X-MICROSOFT-CDO-ALLDAYEVENT:FALSE
SUMMARY:Glow Light Festival Week at GadRock: DJ Night
DESCRIPTION:Join GadRock for an awesome week of Glow Light Festival Shenanigans from October 26th through 31st! Lights out nightly at 6 PM with something for everyone!\n\n\n\nWednesday\, October 28th\n\n\n	 This will be a seriously fun night.  When the lights go out Ellis Entertainment will be on!  This night will be an experience.
X-ALT-DESC;FMTTYPE=text/html:<span style="font-size:16px\;"><span style="font-family:arial\;">Join GadRock for an awesome week of Glow Light Festival Shenanigans from October 26th through 31st! Lights out nightly at 6 PM with something for everyone!<br />\n<br />\n<u><strong>Wednesday\, October 28th</strong></u></span></span>\n\n<ul>\n	<li><span style="font-size:16px\;"><span style="font-family:arial\;">&#8203\;This will be a seriously fun night.&nbsp\; When the lights go out Ellis Entertainment will be on!&nbsp\; This night will be an experience.</span></span></li>\n</ul>\n
LOCATION:GadRock
UID:e.1432.403489
SEQUENCE:3
DTSTAMP:20260421T081749Z
URL:http://business.etowahchamber.org/events/details/glow-light-festival-week-at-gadrock-dj-night-403489
END:VEVENT

END:VCALENDAR
