BEGIN:VCALENDAR
VERSION:2.0
PRODID:-//ChamberMaster//Event Calendar 2.0//EN
METHOD:PUBLISH
X-PUBLISHED-TTL:P3D
REFRESH-INTERVAL:P3D
CALSCALE:GREGORIAN
BEGIN:VEVENT
DTSTART:20201029T220000Z
DTEND:20201030T010000Z
X-MICROSOFT-CDO-ALLDAYEVENT:FALSE
SUMMARY:Glow Light Festival Week at GadRock: Food Truck Night
DESCRIPTION:Join GadRock for an awesome week of Glow Light Festival Shenanigans from October 26th through 31st! Lights out nightly at 6 PM with something for everyone!\n\n\n\nThursday\, October 29th\n\n\n	If you have yet to get you some Maggie's Farm food\, you are missing out!  A great opportunity to climb and grab some grub for an outback deck dinner.
X-ALT-DESC;FMTTYPE=text/html:<span style="font-size:16px\;"><span style="font-family:arial\;">Join GadRock for an awesome week of Glow Light Festival Shenanigans from October 26th through 31st! Lights out nightly at 6 PM with something for everyone!<br />\n<br />\n<u><strong>Thursday\, October 29th</strong></u></span></span>\n\n<ul>\n	<li><span style="font-size:16px\;"><span style="font-family:arial\;">If you have yet to get you some Maggie&#39\;s Farm food\, you are missing out!&nbsp\; A great opportunity to climb and grab some grub for an outback deck dinner.</span></span></li>\n</ul>\n
LOCATION:GadRock
UID:e.1432.403490
SEQUENCE:3
DTSTAMP:20260421T082226Z
URL:http://business.etowahchamber.org/events/details/glow-light-festival-week-at-gadrock-food-truck-night-403490
END:VEVENT

END:VCALENDAR
