BEGIN:VCALENDAR
VERSION:2.0
PRODID:-//ChamberMaster//Event Calendar 2.0//EN
METHOD:PUBLISH
X-PUBLISHED-TTL:P3D
REFRESH-INTERVAL:P3D
CALSCALE:GREGORIAN
BEGIN:VEVENT
DTSTART:20201027T220000Z
DTEND:20201028T010000Z
X-MICROSOFT-CDO-ALLDAYEVENT:FALSE
SUMMARY:Glow Light Festival Week at GadRock: Hot Dogs & Beer Night
DESCRIPTION:Join GadRock for an awesome week of Glow Light Festival Shenanigans from October 26th through 31st! Lights out nightly at 6 PM with something for everyone!\n\n\n\nTuesday\, October 26th\n\n\n	 Come climb and  have a hot dog and beer on us.  We will featuring Back Forty's Rollin' in the Haze IPA!  Beer and dogs while supplies last.
X-ALT-DESC;FMTTYPE=text/html:<span style="font-size:16px\;"><span style="font-family:arial\;">Join GadRock for an awesome week of Glow Light Festival Shenanigans from October 26th through 31st! Lights out nightly at 6 PM with something for everyone!<br />\n<br />\n<u><strong>Tuesday\, October 26th</strong></u></span></span>\n\n<ul>\n	<li><span style="font-size:16px\;"><span style="font-family:arial\;">&#8203\;Come climb and&nbsp\; have a hot dog and beer on us.&nbsp\; We will featuring Back Forty&#39\;s Rollin&#39\; in the Haze IPA!&nbsp\; Beer and dogs while supplies last.</span></span></li>\n</ul>\n
LOCATION:GadRock
UID:e.1432.403488
SEQUENCE:3
DTSTAMP:20260421T082241Z
URL:http://business.etowahchamber.org/events/details/glow-light-festival-week-at-gadrock-hot-dogs-beer-night-403488
END:VEVENT

END:VCALENDAR
