BEGIN:VCALENDAR
VERSION:2.0
PRODID:-//ChamberMaster//Event Calendar 2.0//EN
METHOD:PUBLISH
X-PUBLISHED-TTL:P3D
REFRESH-INTERVAL:P3D
CALSCALE:GREGORIAN
BEGIN:VEVENT
DTSTART:20201026T220000Z
DTEND:20201027T010000Z
X-MICROSOFT-CDO-ALLDAYEVENT:FALSE
SUMMARY:Glow Light Festival Week at GadRock: Tape Art & Glow Flow Night
DESCRIPTION:Join GadRock for an awesome week of Glow Light Festival Shenanigans from October 26th through 31st! Lights out nightly at 6 PM with something for everyone!\n\n\n\nMonday\, October 26th\n\n	Tape Art Contest: 5-8 PM\n	\n		 Come create your own piece of art using our fluorescent gaffer's tape.  There will be a prize for our staff picked "best in show" and all participants receive a day pass for the night.\n	\n	\n	Glow Flow: 6:30-7:30 PM\n	\n		 Monday at our regular yoga time\, join Madison for a fun black light yoga flow\, then hang around and climb in the dark!
X-ALT-DESC;FMTTYPE=text/html:<span style="font-size:16px\;"><span style="font-family:arial\;">Join GadRock for an awesome week of Glow Light Festival Shenanigans from October 26th through 31st! Lights out nightly at 6 PM with something for everyone!<br />\n<br />\n<u><strong>Monday\, October 26th</strong></u></span></span>\n<ul>\n	<li><strong><span style="font-size:16px\;"><span style="font-family:arial\;">Tape Art Contest: 5-8 PM</span></span></strong>\n	<ul>\n		<li><span style="font-size:16px\;"><span style="font-family:arial\;">&#8203\;Come create your own piece of art using our fluorescent gaffer&#39\;s tape.&nbsp\; There will be a prize for our staff picked &quot\;best in show&quot\; and all participants receive a day pass for the night.</span></span></li>\n	</ul>\n	</li>\n	<li><strong><span style="font-size:16px\;"><span style="font-family:arial\;">Glow Flow: 6:30-7:30 PM</span></span></strong>\n	<ul>\n		<li><span style="font-size:16px\;"><span style="font-family:arial\;">&#8203\;Monday at our regular yoga time\, join Madison for a fun black light yoga flow\, then hang around and climb in the dark!</span></span></li>\n	</ul>\n	</li>\n</ul>\n
LOCATION:GadRock
UID:e.1432.403487
SEQUENCE:3
DTSTAMP:20260421T081927Z
URL:http://business.etowahchamber.org/events/details/glow-light-festival-week-at-gadrock-tape-art-glow-flow-night-403487
END:VEVENT

END:VCALENDAR
