BEGIN:VCALENDAR
VERSION:2.0
PRODID:-//ChamberMaster//Event Calendar 2.0//EN
METHOD:PUBLISH
X-PUBLISHED-TTL:P3D
REFRESH-INTERVAL:P3D
CALSCALE:GREGORIAN
BEGIN:VEVENT
DTSTART:20201030T230000Z
DTEND:20201031T010000Z
X-MICROSOFT-CDO-ALLDAYEVENT:FALSE
SUMMARY:Glow Light Festival Week at GadRock: Tie Dye Tees Night
DESCRIPTION:Join GadRock for an awesome week of Glow Light Festival Shenanigans from October 26th through 31st! Lights out nightly at 6 PM with something for everyone!\n\n\n\nFriday\, October 30th\n\n\n	Spaces are limited for this clinic\, so watch for the sign ups.  Purchase a logo Tshirt to dye for $15 and we will make a mess outside tie dying them.
X-ALT-DESC;FMTTYPE=text/html:<span style="font-size:16px\;"><span style="font-family:arial\;">Join GadRock for an awesome week of Glow Light Festival Shenanigans from October 26th through 31st! Lights out nightly at 6 PM with something for everyone!<br />\n<br />\n<u><strong>Friday\, October 30th</strong></u></span></span>\n\n<ul>\n	<li><span style="font-size:16px\;"><span style="font-family:arial\;">Spaces are limited for this clinic\, so watch for the sign ups.&nbsp\; Purchase a logo Tshirt&nbsp\;to dye for $15 and we will make a mess outside tie dying them.</span></span></li>\n</ul>\n
LOCATION:GadRock
UID:e.1432.403491
SEQUENCE:3
DTSTAMP:20260421T081859Z
URL:http://business.etowahchamber.org/events/details/glow-light-festival-week-at-gadrock-tie-dye-tees-night-403491
END:VEVENT

END:VCALENDAR
